BEGIN:VCALENDAR
VERSION:2.0
PRODID:icalendar-ruby
CALSCALE:GREGORIAN
METHOD:PUBLISH
BEGIN:VEVENT
DTSTAMP:20260422T052542Z
UID:40-277021@shadygrovebaker.com
DTSTART:20261101T160000Z
DTEND:20261101T180000Z
CLASS:PUBLIC
CREATED:20260421T200040
DESCRIPTION:
LAST-MODIFIED:20260421T200040
LOCATION:
SUMMARY:Sunday Worship
URL;VALUE=URI:https://www.shadygrovebaker.com/events/sunday-worship--40/202
 6-11-01
END:VEVENT
END:VCALENDAR
