BEGIN:VCALENDAR
VERSION:2.0
PRODID:icalendar-ruby
CALSCALE:GREGORIAN
METHOD:PUBLISH
BEGIN:VEVENT
DTSTAMP:20260422T035943Z
UID:40-277020@shadygrovebaker.com
DTSTART:20261025T150000Z
DTEND:20261025T170000Z
CLASS:PUBLIC
CREATED:20260421T200040
DESCRIPTION:
LAST-MODIFIED:20260421T200040
LOCATION:
SUMMARY:Sunday Worship
URL;VALUE=URI:https://www.shadygrovebaker.com/events/sunday-worship--40/202
 6-10-25
END:VEVENT
END:VCALENDAR
