BEGIN:VCALENDAR
VERSION:2.0
PRODID:icalendar-ruby
CALSCALE:GREGORIAN
METHOD:PUBLISH
BEGIN:VEVENT
DTSTAMP:20260422T004734Z
UID:40-276850@shadygrovebaker.com
DTSTART:20261011T150000Z
DTEND:20261011T170000Z
CLASS:PUBLIC
CREATED:20260421T172158
DESCRIPTION:
LAST-MODIFIED:20260421T172158
LOCATION:
SUMMARY:Sunday Worship
URL;VALUE=URI:https://www.shadygrovebaker.com/events/sunday-worship--40/202
 6-10-11
END:VEVENT
END:VCALENDAR
