BEGIN:VCALENDAR
VERSION:2.0
PRODID:icalendar-ruby
CALSCALE:GREGORIAN
METHOD:PUBLISH
BEGIN:VEVENT
DTSTAMP:20260421T193654Z
UID:40-276511@shadygrovebaker.com
DTSTART:20260920T150000Z
DTEND:20260920T170000Z
CLASS:PUBLIC
CREATED:20260421T120737
DESCRIPTION:
LAST-MODIFIED:20260421T120737
LOCATION:
SUMMARY:Sunday Worship
URL;VALUE=URI:https://www.shadygrovebaker.com/events/sunday-worship--40/202
 6-09-20
END:VEVENT
END:VCALENDAR
