BEGIN:VCALENDAR
VERSION:2.0
PRODID:icalendar-ruby
CALSCALE:GREGORIAN
METHOD:PUBLISH
BEGIN:VEVENT
DTSTAMP:20260421T193228Z
UID:41-276550@shadygrovebaker.com
DTSTART:20260920T140000Z
DTEND:20260920T144500Z
CLASS:PUBLIC
CREATED:20260421T120737
DESCRIPTION:Sunday School\nOur Sunday School ministry is a place where fait
 h is nurtured\, questions are welcomed\, and God’s Word is taught with c
 larity and care for every generation. We offer classes for children\, stud
 ents\, and adults\, creating spaces where people of all ages can grow in t
 heir understanding of Scripture and build meaningful relationships within 
 the church family.\nEach week\, our teachers and leaders are committed to 
 guiding conversations that encourage spiritual formation\, strengthen fami
 lies\, and equip believers to live out their faith beyond Sunday morning. 
 Whether you are just beginning your journey with Christ or have walked wit
 h Him for years\, Sunday School provides a welcoming environment to learn\
 , connect\, and grow together.
LAST-MODIFIED:20260421T120737
LOCATION:
SUMMARY:Sunday School
URL;VALUE=URI:https://www.shadygrovebaker.com/events/sunday-school--41/2026
 -09-20
ATTACH;FILENAME=Sunday School.jpg;FMTTYPE=image/jpeg:https://dq5pwpg1q8ru0.
 cloudfront.net/2026/02/13/18/34/04/73c143c7-556a-46b1-89d8-7e3e07acad8d/Su
 nday%20School.jpg
END:VEVENT
END:VCALENDAR
